{
 "currentVersion": 10.31,
 "serviceDescription": "podklad , Evropa, hypsa, vodstvo, NAKIII",
 "mapName": "Layers",
 "description": "",
 "copyrightText": "",
 "supportsDynamicLayers": false,
 "layers": [
  {
   "id": 0,
   "name": "Stabilní katastr NAKI I",
   "parentLayerId": -1,
   "defaultVisibility": true,
   "subLayerIds": null,
   "minScale": 0,
   "maxScale": 0
  }
 ],
 "tables": [],
 "spatialReference": {
  "wkid": 102067,
  "latestWkid": 5514
 },
 "singleFusedMapCache": true,
 "tileInfo": {
  "rows": 256,
  "cols": 256,
  "dpi": 96,
  "format": "MIXED",
  "compressionQuality": 75,
  "origin": {
   "x": -33699800,
   "y": 33699800
  },
  "spatialReference": {
   "wkid": 102067,
   "latestWkid": 5514
  },
  "lods": [
   {
    "level": 0,
    "resolution": 1024.1300482600966,
    "scale": 3870720
   },
   {
    "level": 1,
    "resolution": 512.0650241300483,
    "scale": 1935360
   },
   {
    "level": 2,
    "resolution": 256.03251206502415,
    "scale": 967680
   },
   {
    "level": 3,
    "resolution": 128.01625603251208,
    "scale": 483840
   },
   {
    "level": 4,
    "resolution": 64.00812801625604,
    "scale": 241920
   },
   {
    "level": 5,
    "resolution": 32.00406400812802,
    "scale": 120960
   },
   {
    "level": 6,
    "resolution": 16.00203200406401,
    "scale": 60480
   },
   {
    "level": 7,
    "resolution": 8.001016002032005,
    "scale": 30240
   },
   {
    "level": 8,
    "resolution": 4.000508001016002,
    "scale": 15120
   },
   {
    "level": 9,
    "resolution": 2.000254000508001,
    "scale": 7560
   },
   {
    "level": 10,
    "resolution": 1.0001270002540006,
    "scale": 3780
   },
   {
    "level": 11,
    "resolution": 0.5000635001270003,
    "scale": 1890
   },
   {
    "level": 12,
    "resolution": 0.25003175006350015,
    "scale": 945
   }
  ]
 },
 "initialExtent": {
  "xmin": -699225.9193011911,
  "ymin": -1189536.6193680686,
  "xmax": -394636.97678997274,
  "ymax": -1063594.7008175647,
  "spatialReference": {
   "wkid": 102067,
   "latestWkid": 5514
  }
 },
 "fullExtent": {
  "xmin": -636509.1442000009,
  "ymin": -1168082.0775999986,
  "xmax": -545393.467299999,
  "ymax": -1062132.9464999984,
  "spatialReference": {
   "wkid": 102067,
   "latestWkid": 5514
  }
 },
 "minScale": 967680,
 "maxScale": 945,
 "units": "esriMeters",
 "supportedImageFormatTypes": "PNG32,PNG24,PNG,JPG,DIB,TIFF,EMF,PS,PDF,GIF,SVG,SVGZ,BMP",
 "documentInfo": {
  "Title": "",
  "Author": "",
  "Comments": "podklad , Evropa, hypsa, vodstvo, NAKIII",
  "Subject": "podklad , Evropa, hypsa, vodstvo, NAKIII",
  "Category": "",
  "AntialiasingMode": "None",
  "TextAntialiasingMode": "Force",
  "Keywords": "podklad , Evropa, hypsa, vodstvo, NAKIII"
 },
 "capabilities": "Map,Query,Data",
 "supportedQueryFormats": "JSON, AMF",
 "exportTilesAllowed": false,
 "maxRecordCount": 1000,
 "maxImageHeight": 4096,
 "maxImageWidth": 4096,
 "supportedExtensions": "WMSServer"
}
